BEGIN:VCALENDAR
PRODID:-//Microsoft Corporation//Outlook 16.0 MIMEDIR//EN
VERSION:2.0
METHOD:PUBLISH
X-MS-OLK-FORCEINSPECTOROPEN:TRUE
BEGIN:VEVENT
CLASS:PUBLIC
CREATED:20260308T140321Z
DESCRIPTION:Promemoria da Amnesty International Italia.\nNon dimenticare di
	 presentare il modulo REDDITI PF o MODELLO CU entro il 31 ottobre.\nRicorda di inserire il nost
	ro CF 03031110582 per donare il tuo 5x1000 in difesa dei diritti umani
	.\nhttps://www.amnesty.it/sostienici/5x1000/\n
DTEND;VALUE=DATE:20260528
DTSTAMP:20260308T140321Z
DTSTART;VALUE=DATE:20260713
LAST-MODIFIED:20260708T140321Z
PRIORITY:5
RRULE:FREQ=WEEKLY;COUNT=9;INTERVAL=2;BYDAY=MO;WKST=MO
SEQUENCE:0
SUMMARY;LANGUAGE=it:Dichiarazione modulo REDDITI PF o MODELLO CU
TRANSP:TRANSPARENT
UID:040000008200E00074C5B7101A82E0080000000010F1AD92FC32D801000000000000000
	01000000030AFC44D1A738140AF3F43540F7CA70E
X-MICROSOFT-CDO-BUSYSTATUS:FREE
X-MICROSOFT-CDO-IMPORTANCE:1
X-MICROSOFT-DISALLOW-COUNTER:FALSE
X-MS-OLK-CONFTYPE:0
BEGIN:VALARM
TRIGGER:-PT1080M
ACTION:DISPLAY
DESCRIPTION:Reminder
END:VALARM
END:VEVENT
END:VCALENDAR
